BEGIN:VCALENDAR
VERSION:2.0
PRODID:-//LiSSi - ECPv4.9.0.3//NONSGML v1.0//EN
CALSCALE:GREGORIAN
METHOD:PUBLISH
X-WR-CALNAME:LiSSi
X-ORIGINAL-URL:https://www.lissi.fr
X-WR-CALDESC:Évènements pour LiSSi
BEGIN:VEVENT
DTSTART;VALUE=DATE:20190424
DTEND;VALUE=DATE:20190427
DTSTAMP:20260420T091304
CREATED:20181207T082824Z
LAST-MODIFIED:20181221T141227Z
UID:4488-1556064000-1556323199@www.lissi.fr
SUMMARY:BioSMART 2019 - Bio-engineering for Smart Technologies
DESCRIPTION:The LISSI is organizing the International Conference on Bio-engineering for Smart Technologies (BioSMART 2019) which will take place from 24 to 26 April 2019 in Paris (France).  \nWebsite: http://www.biosmart2019.org/ \nContact: A. Nait-Ali \n
URL:https://www.lissi.fr/event/bio-engineering-for-smart-technologies-biosmart-2019-2/
CATEGORIES:EN
END:VEVENT
END:VCALENDAR