BEGIN:VCALENDAR
VERSION:2.0
PRODID:-//LiSSi - ECPv4.9.0.3//NONSGML v1.0//EN
CALSCALE:GREGORIAN
METHOD:PUBLISH
X-WR-CALNAME:LiSSi
X-ORIGINAL-URL:https://www.lissi.fr
X-WR-CALDESC:Évènements pour LiSSi
BEGIN:VEVENT
DTSTART;VALUE=DATE:20190128
DTEND;VALUE=DATE:20190129
DTSTAMP:20260420T115106
CREATED:20190124T104936Z
LAST-MODIFIED:20190124T105919Z
UID:4877-1548633600-1548719999@www.lissi.fr
SUMMARY:First Semester- PhD students seminar
DESCRIPTION:Place: LISSI's Meeting room\, Vitry-sur-Seine\n\nThe LISSI organizes the 1st semester-PhD students day. During this seminar\, PhD students from the different teams of LISSI Lab will present their latest research results via a series of presentations and demos. The purpose of this day is to gather the lab staff as well as other parties (students\, partners\, and other researchers) to exchange with the PhD students around specific research topics. \nProgram: \n14h00: R. Touihri\nTitle: CRP: Optimized SDN Routing Protocol in Server-Only CamCube Data-Center Networks \n14h15: R. Mallat\nTitle: Toward an Affordable Multi-Modal Motion Capture System Framework for Human Kinematics and Kinetics Assessment. \n14h30: A. Flori\nTitle : Métaheuristiques pour l’optimisation en variables continues : application au développement d’un moteur de calculs pour la mesure de mouvements orthodontiques. \n14h45h: C. Russo\nTitle: Knowledge Design and Conceptualization in Autonomous Robotics. \n15h00:  M. Ilyas\nTitle: Human age estimation using auditory perception-modelling and applications.  \n15h15: R. Mojarad\nTitle: Context-aware human behavior recognition approach in ambient assisted living systems. \n15h30: H. Abdelkawy\nTitle:  Anchoring Dynamic Entities in IoRT Environments. \n15h45: Prof. Y. Amirat\nSynthesis of PhD students activities and closing discussion \n16h :  Snack with kings cake \n
URL:https://www.lissi.fr/event/first-semester-phd-students-seminar-2/
CATEGORIES:EN
END:VEVENT
END:VCALENDAR