BEGIN:VCALENDAR
VERSION:2.0
PRODID:-//LiSSi - ECPv4.9.0.3//NONSGML v1.0//EN
CALSCALE:GREGORIAN
METHOD:PUBLISH
X-WR-CALNAME:LiSSi
X-ORIGINAL-URL:https://www.lissi.fr
X-WR-CALDESC:Évènements pour LiSSi
BEGIN:VEVENT
DTSTART;VALUE=DATE:20190729
DTEND;VALUE=DATE:20190801
DTSTAMP:20260420T094132
CREATED:20190127T192547Z
LAST-MODIFIED:20240830T090429Z
UID:5002-1564358400-1564617599@www.lissi.fr
SUMMARY:ICINCO 2019 - International Conference on Informatics in Control\, Automation and Robotics
DESCRIPTION:The LISSI is co-organizing the 16th edition of the International Conference on Informatics in Control\, Automation and Robotics-ICINCO 2019 which will take place from 29 to 31 July 2019 in Prague (Czech Republic).  \nWebsite: http://www.icinco.org/ \nContact: K. Madani \n
URL:https://www.lissi.fr/event/icinco-2019-international-conference-on-informatics-in-control-automation-and-robotics-2/
CATEGORIES:EN
END:VEVENT
END:VCALENDAR