BEGIN:VCALENDAR
VERSION:2.0
PRODID:-//LiSSi - ECPv4.9.0.3//NONSGML v1.0//EN
CALSCALE:GREGORIAN
METHOD:PUBLISH
X-WR-CALNAME:LiSSi
X-ORIGINAL-URL:https://www.lissi.fr
X-WR-CALDESC:Évènements pour LiSSi
BEGIN:VEVENT
DTSTART;VALUE=DATE:20180918
DTEND;VALUE=DATE:20180921
DTSTAMP:20260420T093958
CREATED:20180713T085209Z
LAST-MODIFIED:20181207T102410Z
UID:3063-1537228800-1537487999@www.lissi.fr
SUMMARY:IJCCI 2018 - International Joint Conference on Computational Intelligence
DESCRIPTION:Le LISSI organise la 10ème édition de la conférence International Conference on Informatics in Control\, Automation and Robotics-ICINCO 2018 qui aura lieu du 18 au 20 Septembre 2018 à Séville (Espagne).  \nSite Web: http://www.ijcci.org/ \nContact: K. Madani \n
URL:https://www.lissi.fr/event/ijcci-2018-international-joint-conference-on-computational-intelligence/
LOCATION:IJCCI 2018\, Seville\, Espagne
CATEGORIES:FR
END:VEVENT
END:VCALENDAR