BEGIN:VCALENDAR
VERSION:2.0
PRODID:-//LiSSi - ECPv4.9.0.3//NONSGML v1.0//EN
CALSCALE:GREGORIAN
METHOD:PUBLISH
X-WR-CALNAME:LiSSi
X-ORIGINAL-URL:https://www.lissi.fr
X-WR-CALDESC:Évènements pour LiSSi
BEGIN:VEVENT
DTSTART;VALUE=DATE:20181001
DTEND;VALUE=DATE:20181002
DTSTAMP:20260420T092802
CREATED:20180713T142252Z
LAST-MODIFIED:20180910T091928Z
UID:3117-1538352000-1538438399@www.lissi.fr
SUMMARY:IROS 2018 - Workshop RoboAssist 2018-Wearable robotics for motion assistance and rehabilitation
DESCRIPTION:Dans le cadre de la conférence IEEE/RSJ IROS 2018 (https://www.iros2018.org/) qui aura lieu du 1er au 5 octobre 2018 à Madrid (Espagne)\, le LISSI co-organise le Workshop RoboAssist 2018-Wearable robotics for motion assistance and rehabilitation  \nSite du Workshop : http://roboassist.net/IROS2018_WS/doku.php/start \nContact: S. Mohammed \n
URL:https://www.lissi.fr/event/iros-2018-workshop-roboassist-2018-wearable-robotics-for-motion-assistance-and-rehabilitation/
LOCATION:IROS 2018\, Madrid\, Espagne
CATEGORIES:FR
END:VEVENT
END:VCALENDAR