BEGIN:VCALENDAR
VERSION:2.0
PRODID:-//LiSSi - ECPv4.9.0.3//NONSGML v1.0//EN
CALSCALE:GREGORIAN
METHOD:PUBLISH
X-WR-CALNAME:LiSSi
X-ORIGINAL-URL:https://www.lissi.fr
X-WR-CALDESC:Évènements pour LiSSi
BEGIN:VEVENT
DTSTART;VALUE=DATE:20171108
DTEND;VALUE=DATE:20171111
DTSTAMP:20260420T114846
CREATED:20190107T081927Z
LAST-MODIFIED:20190107T081927Z
UID:4591-1510099200-1510358399@www.lissi.fr
SUMMARY:JNRR 2017 - Journées Nationales de la Recherche en Robotique
DESCRIPTION:Le LISSI organise la session plénière Interfaces Homme-Machine dans le cadre des Journées Nationales de la Recherche en Robotique - JNRR 2017 qui aura lieu du 08 au 10 Novembre 2017 à Biarritz (France).  \nSite Web: https://jnrr2017.sciencesconf.org \nContact: S. Mohammed \n
URL:https://www.lissi.fr/event/jnrr-2017-journees-nationales-de-la-recherche-en-robotique/
CATEGORIES:FR
END:VEVENT
END:VCALENDAR