BEGIN:VCALENDAR
VERSION:2.0
PRODID:-//LiSSi - ECPv4.9.0.3//NONSGML v1.0//EN
CALSCALE:GREGORIAN
METHOD:PUBLISH
X-WR-CALNAME:LiSSi
X-ORIGINAL-URL:https://www.lissi.fr
X-WR-CALDESC:Évènements pour LiSSi
BEGIN:VEVENT
DTSTART;VALUE=DATE:20181016
DTEND;VALUE=DATE:20181021
DTSTAMP:20260422T092327
CREATED:20180925T125503Z
LAST-MODIFIED:20190128T105215Z
UID:4023-1539648000-1540079999@www.lissi.fr
SUMMARY:WeRob 2018 The International Symposium on Wearable Robotics
DESCRIPTION:Le LISSI organise la session Subject-centered based approaches for controlling Wearable Robots au symposium international sur la robotique portable (WeRob 2018) qui aura lieu du 16 au 20 octobre 2018 à Pise (Italie) \nSite du symposium: http://www.werob2018.org/ \nContact: S. Mohammed \n
URL:https://www.lissi.fr/event/werob-2018-the-international-symposium-on-wearable-robotics/
CATEGORIES:FR
END:VEVENT
END:VCALENDAR